Package: xmapbridge Version: 1.62.0 Command: /home/biocbuild/bbs-3.19-bioc/R/bin/R CMD build --keep-empty-dirs --no-resave-data xmapbridge StartedAt: 2024-10-16 21:22:58 -0400 (Wed, 16 Oct 2024) EndedAt: 2024-10-16 21:23:16 -0400 (Wed, 16 Oct 2024) EllapsedTime: 18.0 seconds RetCode: 0 Status: OK PackageFile: xmapbridge_1.62.0.tar.gz PackageFileSize: 2.899 MiB