Package: xmapbridge Version: 1.62.0 Command: E:\biocbuild\bbs-3.19-bioc\R\bin\R.exe CMD INSTALL xmapbridge StartedAt: 2024-10-16 16:01:30 -0400 (Wed, 16 Oct 2024) EndedAt: 2024-10-16 16:01:45 -0400 (Wed, 16 Oct 2024) EllapsedTime: 15.2 seconds RetCode: 0 Status: OK