Package: yarn Version: 1.30.0 Command: /home/biocbuild/R/R-beta-2024-04-15_r86425/bin/R CMD build --keep-empty-dirs --no-resave-data yarn StartedAt: 2024-05-09 04:24:37 -0000 (Thu, 09 May 2024) EndedAt: 2024-05-09 04:26:16 -0000 (Thu, 09 May 2024) EllapsedTime: 99.0 seconds RetCode: 0 Status: OK PackageFile: yarn_1.30.0.tar.gz PackageFileSize: 2.958 MiB