Package: yarn Version: 1.30.0 Command: /Library/Frameworks/R.framework/Resources/bin/R CMD build --keep-empty-dirs --no-resave-data yarn StartedAt: 2024-06-09 18:33:37 -0400 (Sun, 09 Jun 2024) EndedAt: 2024-06-09 18:34:58 -0400 (Sun, 09 Jun 2024) EllapsedTime: 80.8 seconds RetCode: 0 Status: OK PackageFile: yarn_1.30.0.tar.gz PackageFileSize: 2.974 MiB