Package: yarn Version: 1.30.0 Command: /home/biocbuild/bbs-3.19-bioc/R/bin/R CMD build --keep-empty-dirs --no-resave-data yarn StartedAt: 2024-10-16 21:23:17 -0400 (Wed, 16 Oct 2024) EndedAt: 2024-10-16 21:24:29 -0400 (Wed, 16 Oct 2024) EllapsedTime: 72.3 seconds RetCode: 0 Status: OK PackageFile: yarn_1.30.0.tar.gz PackageFileSize: 2.974 MiB