Package: yarn Version: 1.30.0 Command: chmod a+r yarn -R && F:\biocbuild\bbs-3.19-bioc\R\bin\R.exe CMD build --keep-empty-dirs --no-resave-data yarn StartedAt: 2024-06-26 22:37:13 -0400 (Wed, 26 Jun 2024) EndedAt: 2024-06-26 22:38:53 -0400 (Wed, 26 Jun 2024) EllapsedTime: 100.0 seconds RetCode: 0 Status: OK PackageFile: yarn_1.30.0.tar.gz PackageFileSize: 2.975 MiB