Package: yarn Version: 1.30.0 Command: rm -rf yarn.buildbin-libdir && mkdir yarn.buildbin-libdir && E:\biocbuild\bbs-3.19-bioc\R\bin\R.exe CMD INSTALL --build --library=yarn.buildbin-libdir yarn_1.30.0.tar.gz StartedAt: 2024-10-17 08:51:32 -0400 (Thu, 17 Oct 2024) EndedAt: 2024-10-17 08:52:23 -0400 (Thu, 17 Oct 2024) EllapsedTime: 50.4 seconds RetCode: 0 Status: OK PackageFile: yarn_1.30.0.zip PackageFileSize: 4.119 MiB