Package: DropletUtils Version: 1.24.0 Command: /home/biocbuild/bbs-3.19-bioc/R/bin/R CMD check --test-dir=longtests --no-stop-on-test-error --no-codoc --no-examples --no-manual --ignore-vignettes --check-subdirs=no DropletUtils_1.24.0.tar.gz StartedAt: 2024-10-12 16:16:07 -0400 (Sat, 12 Oct 2024) EndedAt: 2024-10-12 16:24:49 -0400 (Sat, 12 Oct 2024) EllapsedTime: 521.7 seconds RetCode: 0 Status: OK CheckDir: DropletUtils.Rcheck Warnings: 0