Package: EpiMix Version: 1.6.1 Command: /Library/Frameworks/R.framework/Resources/bin/R CMD check --test-dir=longtests --no-stop-on-test-error --no-codoc --no-examples --no-manual --ignore-vignettes --check-subdirs=no EpiMix_1.6.1.tar.gz StartedAt: 2024-06-08 16:10:12 -0400 (Sat, 08 Jun 2024) EndedAt: 2024-06-08 16:13:14 -0400 (Sat, 08 Jun 2024) EllapsedTime: 182.1 seconds RetCode: 0 Status: OK CheckDir: EpiMix.Rcheck Warnings: 0