Package: EpiMix Version: 1.6.1 Command: E:\biocbuild\bbs-3.19-bioc\R\bin\R.exe CMD check --no-multiarch --test-dir=longtests --no-stop-on-test-error --no-codoc --no-examples --no-manual --ignore-vignettes --check-subdirs=no EpiMix_1.6.1.tar.gz StartedAt: 2024-10-12 16:34:52 -0400 (Sat, 12 Oct 2024) EndedAt: 2024-10-12 16:38:50 -0400 (Sat, 12 Oct 2024) EllapsedTime: 237.9 seconds RetCode: 0 Status: OK CheckDir: EpiMix.Rcheck Warnings: 0