Package: GenomicFeatures Version: 1.56.0 Command: /home/biocbuild/bbs-3.19-bioc/R/bin/R CMD check --test-dir=longtests --no-stop-on-test-error --no-codoc --no-examples --no-manual --ignore-vignettes --check-subdirs=no GenomicFeatures_1.56.0.tar.gz StartedAt: 2024-10-12 16:21:21 -0400 (Sat, 12 Oct 2024) EndedAt: 2024-10-12 16:24:31 -0400 (Sat, 12 Oct 2024) EllapsedTime: 190.2 seconds RetCode: 0 Status: WARNINGS CheckDir: GenomicFeatures.Rcheck Warnings: 1