Package: basilisk Version: 1.16.0 Command: /Library/Frameworks/R.framework/Resources/bin/R CMD check --test-dir=longtests --no-stop-on-test-error --no-codoc --no-examples --no-manual --ignore-vignettes --check-subdirs=no basilisk_1.16.0.tar.gz StartedAt: 2024-10-12 16:01:31 -0400 (Sat, 12 Oct 2024) EndedAt: 2024-10-12 16:03:12 -0400 (Sat, 12 Oct 2024) EllapsedTime: 100.6 seconds RetCode: 0 Status: OK CheckDir: basilisk.Rcheck Warnings: 0