Package: basilisk Version: 1.16.0 Command: F:\biocbuild\bbs-3.19-bioc\R\bin\R.exe CMD check --no-multiarch --test-dir=longtests --no-stop-on-test-error --no-codoc --no-examples --no-manual --ignore-vignettes --check-subdirs=no basilisk_1.16.0.tar.gz StartedAt: 2024-06-22 16:07:43 -0400 (Sat, 22 Jun 2024) EndedAt: 2024-06-22 16:14:50 -0400 (Sat, 22 Jun 2024) EllapsedTime: 426.9 seconds RetCode: 1 Status: ERROR CheckDir: basilisk.Rcheck Warnings: NA