Package: beachmat Version: 2.20.0 Command: F:\biocbuild\bbs-3.19-bioc\R\bin\R.exe CMD check --no-multiarch --test-dir=longtests --no-stop-on-test-error --no-codoc --no-examples --no-manual --ignore-vignettes --check-subdirs=no beachmat_2.20.0.tar.gz StartedAt: 2024-06-22 16:07:43 -0400 (Sat, 22 Jun 2024) EndedAt: 2024-06-22 16:45:10 -0400 (Sat, 22 Jun 2024) EllapsedTime: 2246.6 seconds RetCode: 1 Status: ERROR CheckDir: beachmat.Rcheck Warnings: NA