############################################################################## ############################################################################## ### ### Running command: ### ### /home/biocbuild/bbs-3.19-bioc/R/bin/R CMD check --test-dir=longtests --no-stop-on-test-error --no-codoc --no-examples --no-manual --ignore-vignettes --check-subdirs=no biodbLipidmaps_1.10.0.tar.gz ### ############################################################################## ############################################################################## * using log directory ‘/home/biocbuild/bbs-3.19-bioc-longtests/meat/biodbLipidmaps.Rcheck’ * using R version 4.4.1 (2024-06-14) * using platform: x86_64-pc-linux-gnu * R was compiled by gcc (Ubuntu 11.4.0-1ubuntu1~22.04) 11.4.0 GNU Fortran (Ubuntu 11.4.0-1ubuntu1~22.04) 11.4.0 * running under: Ubuntu 22.04.5 LTS * using session charset: UTF-8 * using options ‘--no-codoc --no-examples --no-manual --ignore-vignettes --no-stop-on-test-error’ * checking for file ‘biodbLipidmaps/DESCRIPTION’ ... OK * this is package ‘biodbLipidmaps’ version ‘1.10.0’ * package encoding: UTF-8 * checking package namespace information ... OK * checking package dependencies ... OK * checking if this is a source package ... OK * checking if there is a namespace ... OK * checking for hidden files and directories ... OK * checking for portable file names ... OK * checking for sufficient/correct file permissions ... OK * checking whether package ‘biodbLipidmaps’ can be installed ... OK * checking installed package size ... OK * checking package directory ... OK * checking DESCRIPTION meta-information ... OK * checking top-level files ... OK * checking for left-over files ... OK * checking index information ... OK * checking package subdirectories ... OK * checking code files for non-ASCII characters ... OK * checking R files for syntax errors ... OK * checking whether the package can be loaded ... OK * checking whether the package can be loaded with stated dependencies ... OK * checking whether the package can be unloaded cleanly ... OK * checking whether the namespace can be loaded with stated dependencies ... OK * checking whether the namespace can be unloaded cleanly ... OK * checking loading without being on the library search path ... OK * checking whether startup messages can be suppressed ... OK * checking dependencies in R code ... OK * checking S3 generic/method consistency ... OK * checking replacement functions ... OK * checking foreign function calls ... OK * checking R code for possible problems ... OK * checking Rd files ... OK * checking Rd metadata ... OK * checking Rd cross-references ... OK * checking for missing documentation entries ... OK * checking for code/documentation mismatches ... SKIPPED * checking Rd \usage sections ... OK * checking Rd contents ... OK * checking for unstated dependencies in examples ... OK * checking files in ‘vignettes’ ... SKIPPED * checking examples ... SKIPPED * checking for unstated dependencies in ‘longtests’ ... OK * checking tests in ‘longtests’ ... Running ‘testthat.R’ ERROR Running the tests in ‘longtests/testthat.R’ failed. Last 13 lines of output: name = request.key, ext = "request") }`: missing value where TRUE/FALSE needed Backtrace: ▆ 1. ├─base::do.call(fct, params) 2. └─biodb (local) ``(conn = ``, opt = ``) 3. └─conn$annotateMzValues(...) 4. └─self$searchForEntries(fieldsFilter, max.results = max.results) 5. └─private$doSearchForEntries(fields = fields, max.results = max.results) 6. └─self$wsLmsdSearch(...) 7. └─self$getBiodb()$getRequestScheduler()$sendRequest(request) [ FAIL 5 | WARN 0 | SKIP 0 | PASS 214 ] Error: Test failures Execution halted * DONE Status: 1 ERROR See ‘/home/biocbuild/bbs-3.19-bioc-longtests/meat/biodbLipidmaps.Rcheck/00check.log’ for details.