##############################################################################
##############################################################################
###
### Running command:
###
###   /home/biocbuild/bbs-3.19-bioc/R/bin/R CMD build --keep-empty-dirs --no-resave-data --no-build-vignettes --no-manual crisprScore
###
##############################################################################
##############################################################################


* checking for file ‘crisprScore/DESCRIPTION’ ... OK
* preparing ‘crisprScore’:
* checking DESCRIPTION meta-information ... OK
* checking for LF line-endings in source and make files and shell scripts
* checking for empty or unneeded directories
* building ‘crisprScore_1.7.0.tar.gz’
Warning in utils::tar(filepath, pkgname, compression = compression, compression_level = 9L,  :
  storing paths of more than 100 bytes is not portable:
  ‘crisprScore/inst/python/deepspcas9/DeepCas9_Final/PreTrain-Final-False-3-5-7-100-70-40-0.001-550-True-80-60.data-00000-of-00001’
Warning in utils::tar(filepath, pkgname, compression = compression, compression_level = 9L,  :
  storing paths of more than 100 bytes is not portable:
  ‘crisprScore/inst/python/deepspcas9/DeepCas9_Final/PreTrain-Final-False-3-5-7-100-70-40-0.001-550-True-80-60.index’
Warning in utils::tar(filepath, pkgname, compression = compression, compression_level = 9L,  :
  storing paths of more than 100 bytes is not portable:
  ‘crisprScore/inst/python/deepspcas9/DeepCas9_Final/PreTrain-Final-False-3-5-7-100-70-40-0.001-550-True-80-60.meta’