Package: xcms Version: 4.2.3 Command: /Library/Frameworks/R.framework/Resources/bin/R CMD check --test-dir=longtests --no-stop-on-test-error --no-codoc --no-examples --no-manual --ignore-vignettes --check-subdirs=no xcms_4.2.3.tar.gz StartedAt: 2024-10-12 16:24:33 -0400 (Sat, 12 Oct 2024) EndedAt: 2024-10-12 16:24:38 -0400 (Sat, 12 Oct 2024) EllapsedTime: 4.5 seconds RetCode: 1 Status: ERROR CheckDir: xcms.Rcheck Warnings: NA