Package: BiocBookDemo Version: 1.1.2 Command: rm -rf BiocBookDemo.book && mkdir BiocBookDemo.book && /home/biocbuild/BBS/utils/deploy_book.py BiocBookDemo_1.1.2.tar.gz BiocBookDemo.book StartedAt: 2023-12-08 08:36:40 -0500 (Fri, 08 Dec 2023) EndedAt: 2023-12-08 08:36:41 -0500 (Fri, 08 Dec 2023) EllapsedTime: 1.0 seconds RetCode: 0 Status: OK DeployDestDir: BiocBookDemo.book Warnings: 0