Package: BiocBookDemo Version: 1.2.0 Command: /home/biocbuild/bbs-3.19-bioc/R/bin/R CMD INSTALL BiocBookDemo StartedAt: 2024-10-18 07:30:08 -0400 (Fri, 18 Oct 2024) EndedAt: 2024-10-18 07:30:09 -0400 (Fri, 18 Oct 2024) EllapsedTime: 0.9 seconds RetCode: 0 Status: OK