Package: gwascatData Version: 0.99.6 Command: /home/biocbuild/bbs-3.19-bioc/R/bin/R CMD check --install=check:gwascatData.install-out.txt --library=/home/biocbuild/bbs-3.19-bioc/R/site-library --timings gwascatData_0.99.6.tar.gz StartedAt: 2024-10-16 06:34:01 -0400 (Wed, 16 Oct 2024) EndedAt: 2024-10-16 06:34:27 -0400 (Wed, 16 Oct 2024) EllapsedTime: 25.9 seconds RetCode: 1 Status: ERROR CheckDir: gwascatData.Rcheck Warnings: NA