Package: synaptome.db Version: 0.99.16 Maintainer: Oksana Sorokina MaintainerEmail: oksana.sorokina at ed.ac.uk git_url: https://git.bioconductor.org/packages/synaptome.db git_branch: RELEASE_3_19 git_last_commit: 810fa05 git_last_commit_date: 2024-07-15 19:34:01 -0400 (Mon, 15 Jul 2024)