Package: COSMIC.67 Version: 1.40.0 Command: /home/biocbuild/bbs-3.19-bioc/R/bin/R CMD build --keep-empty-dirs --no-resave-data COSMIC.67 StartedAt: 2024-10-17 10:17:55 -0400 (Thu, 17 Oct 2024) EndedAt: 2024-10-17 10:18:59 -0400 (Thu, 17 Oct 2024) EllapsedTime: 63.9 seconds RetCode: 0 Status: OK PackageFile: COSMIC.67_1.40.0.tar.gz PackageFileSize: 39.18 MiB