Package: NanoporeRNASeq Version: 1.14.0 Command: /home/biocbuild/bbs-3.19-bioc/R/bin/R CMD INSTALL NanoporeRNASeq StartedAt: 2024-10-17 10:02:24 -0400 (Thu, 17 Oct 2024) EndedAt: 2024-10-17 10:02:33 -0400 (Thu, 17 Oct 2024) EllapsedTime: 9.5 seconds RetCode: 0 Status: OK