Package: RITANdata Version: 1.28.0 Command: /home/biocbuild/bbs-3.19-bioc/R/bin/R CMD check --install=check:RITANdata.install-out.txt --library=/home/biocbuild/bbs-3.19-bioc/R/site-library --timings RITANdata_1.28.0.tar.gz StartedAt: 2024-10-17 11:58:19 -0400 (Thu, 17 Oct 2024) EndedAt: 2024-10-17 11:58:39 -0400 (Thu, 17 Oct 2024) EllapsedTime: 19.9 seconds RetCode: 0 Status: OK CheckDir: RITANdata.Rcheck Warnings: 0