Package: RTCGA.RPPA Version: 1.32.0 Command: /home/biocbuild/bbs-3.19-bioc/R/bin/R CMD INSTALL RTCGA.RPPA StartedAt: 2024-10-17 10:03:57 -0400 (Thu, 17 Oct 2024) EndedAt: 2024-10-17 10:04:08 -0400 (Thu, 17 Oct 2024) EllapsedTime: 10.9 seconds RetCode: 0 Status: OK