Package: TMExplorer Version: 1.14.0 Command: /home/biocbuild/bbs-3.19-bioc/R/bin/R CMD check --install=check:TMExplorer.install-out.txt --library=/home/biocbuild/bbs-3.19-bioc/R/site-library --timings TMExplorer_1.14.0.tar.gz StartedAt: 2024-10-17 12:19:25 -0400 (Thu, 17 Oct 2024) EndedAt: 2024-10-17 12:27:59 -0400 (Thu, 17 Oct 2024) EllapsedTime: 514.5 seconds RetCode: 0 Status: OK CheckDir: TMExplorer.Rcheck Warnings: 0