Package: fibroEset Version: 1.46.0 Command: /home/biocbuild/bbs-3.19-bioc/R/bin/R CMD INSTALL fibroEset StartedAt: 2024-10-17 10:01:34 -0400 (Thu, 17 Oct 2024) EndedAt: 2024-10-17 10:01:38 -0400 (Thu, 17 Oct 2024) EllapsedTime: 3.9 seconds RetCode: 0 Status: OK