Package: yeastExpData Version: 0.50.0 Command: /home/biocbuild/bbs-3.19-bioc/R/bin/R CMD build --keep-empty-dirs --no-resave-data yeastExpData StartedAt: 2024-10-17 10:59:57 -0400 (Thu, 17 Oct 2024) EndedAt: 2024-10-17 11:00:05 -0400 (Thu, 17 Oct 2024) EllapsedTime: 8.0 seconds RetCode: 0 Status: OK PackageFile: yeastExpData_0.50.0.tar.gz PackageFileSize: 935.2 KiB