Package: CAGEWorkflow
Version: 1.20.0
Command: /Library/Frameworks/R.framework/Resources/bin/R CMD build --keep-empty-dirs --no-resave-data CAGEWorkflow
StartedAt: 2024-10-18 13:04:01 -0400 (Fri, 18 Oct 2024)
EndedAt: 2024-10-18 13:13:22 -0400 (Fri, 18 Oct 2024)
EllapsedTime: 561.9 seconds
RetCode: 0
Status: OK
PackageFile: CAGEWorkflow_1.20.0.tar.gz
PackageFileSize: 906.6 <A href="http://en.wikipedia.org/wiki/KiB" target="_blank">KiB</A>