Package: GeoMxWorkflows Version: 1.10.0 Command: /Library/Frameworks/R.framework/Resources/bin/R CMD build --keep-empty-dirs --no-resave-data GeoMxWorkflows StartedAt: 2024-06-11 13:03:09 -0400 (Tue, 11 Jun 2024) EndedAt: 2024-06-11 13:24:00 -0400 (Tue, 11 Jun 2024) EllapsedTime: 1251.0 seconds RetCode: 0 Status: OK PackageFile: GeoMxWorkflows_1.10.0.tar.gz PackageFileSize: 23.21 MiB