Package: TCGAWorkflow Version: 1.28.0 Command: chmod a+r TCGAWorkflow -R && E:\biocbuild\bbs-3.19-bioc\R\bin\R.exe CMD build --keep-empty-dirs --no-resave-data TCGAWorkflow StartedAt: 2024-10-18 13:15:30 -0400 (Fri, 18 Oct 2024) EndedAt: 2024-10-18 13:45:57 -0400 (Fri, 18 Oct 2024) EllapsedTime: 1826.3 seconds RetCode: 0 Status: OK PackageFile: TCGAWorkflow_1.28.0.tar.gz PackageFileSize: 1.997 MiB