Package: chipseqDB Version: 1.28.0 Command: /Library/Frameworks/R.framework/Resources/bin/R CMD INSTALL chipseqDB StartedAt: 2024-10-18 13:00:25 -0400 (Fri, 18 Oct 2024) EndedAt: 2024-10-18 13:00:30 -0400 (Fri, 18 Oct 2024) EllapsedTime: 5.0 seconds RetCode: 0 Status: OK