Package: cytofWorkflow Version: 1.28.0 Command: F:\biocbuild\bbs-3.19-bioc\R\bin\R.exe CMD INSTALL cytofWorkflow StartedAt: 2024-06-28 13:01:49 -0400 (Fri, 28 Jun 2024) EndedAt: 2024-06-28 13:02:21 -0400 (Fri, 28 Jun 2024) EllapsedTime: 32.3 seconds RetCode: 0 Status: OK