Package: liftOver Version: 1.28.0 Command: /home/biocbuild/bbs-3.19-bioc/R/bin/R CMD build --keep-empty-dirs --no-resave-data liftOver StartedAt: 2024-10-18 13:04:00 -0400 (Fri, 18 Oct 2024) EndedAt: 2024-10-18 13:05:01 -0400 (Fri, 18 Oct 2024) EllapsedTime: 61.1 seconds RetCode: 0 Status: OK PackageFile: liftOver_1.28.0.tar.gz PackageFileSize: 4.374 MiB