Package: liftOver Version: 1.28.0 Command: /home/biocbuild/bbs-3.19-bioc/R/bin/R CMD INSTALL liftOver StartedAt: 2024-10-18 13:00:51 -0400 (Fri, 18 Oct 2024) EndedAt: 2024-10-18 13:01:24 -0400 (Fri, 18 Oct 2024) EllapsedTime: 32.3 seconds RetCode: 0 Status: OK