Package: liftOver Version: 1.28.0 Command: chmod a+r liftOver -R && F:\biocbuild\bbs-3.19-bioc\R\bin\R.exe CMD build --keep-empty-dirs --no-resave-data liftOver StartedAt: 2024-06-28 13:07:15 -0400 (Fri, 28 Jun 2024) EndedAt: 2024-06-28 13:08:13 -0400 (Fri, 28 Jun 2024) EllapsedTime: 58.0 seconds RetCode: 0 Status: OK PackageFile: liftOver_1.28.0.tar.gz PackageFileSize: 4.374 MiB