Package: methylationArrayAnalysis Version: 1.28.0 Command: /home/biocbuild/bbs-3.19-bioc/R/bin/R CMD build --keep-empty-dirs --no-resave-data methylationArrayAnalysis StartedAt: 2024-10-18 13:05:01 -0400 (Fri, 18 Oct 2024) EndedAt: 2024-10-18 13:12:11 -0400 (Fri, 18 Oct 2024) EllapsedTime: 429.8 seconds RetCode: 1 Status: ERROR PackageFile: None PackageFileSize: NA