Package: methylationArrayAnalysis Version: 1.28.0 Command: chmod a+r methylationArrayAnalysis -R && E:\biocbuild\bbs-3.19-bioc\R\bin\R.exe CMD build --keep-empty-dirs --no-resave-data methylationArrayAnalysis StartedAt: 2024-10-18 13:08:26 -0400 (Fri, 18 Oct 2024) EndedAt: 2024-10-18 13:25:13 -0400 (Fri, 18 Oct 2024) EllapsedTime: 1007.5 seconds RetCode: 1 Status: ERROR PackageFile: None PackageFileSize: NA