Package: sequencing Version: 1.28.0 Command: /Library/Frameworks/R.framework/Resources/bin/R CMD build --keep-empty-dirs --no-resave-data sequencing StartedAt: 2024-10-18 13:14:46 -0400 (Fri, 18 Oct 2024) EndedAt: 2024-10-18 13:16:26 -0400 (Fri, 18 Oct 2024) EllapsedTime: 99.2 seconds RetCode: 0 Status: OK PackageFile: sequencing_1.28.0.tar.gz PackageFileSize: 403.4 KiB