Package: sequencing Version: 1.28.0 Command: chmod a+r sequencing -R && E:\biocbuild\bbs-3.19-bioc\R\bin\R.exe CMD build --keep-empty-dirs --no-resave-data sequencing StartedAt: 2024-10-18 13:14:43 -0400 (Fri, 18 Oct 2024) EndedAt: 2024-10-18 13:15:30 -0400 (Fri, 18 Oct 2024) EllapsedTime: 46.7 seconds RetCode: 1 Status: ERROR PackageFile: None PackageFileSize: NA