Package: ABSSeq Version: 1.60.0 Command: rm -rf ABSSeq.buildbin-libdir && mkdir ABSSeq.buildbin-libdir && /Users/biocbuild/BBS/utils/build-universal.sh ABSSeq_1.60.0.tar.gz /Library/Frameworks/R.framework/Resources/bin/R ABSSeq.buildbin-libdir StartedAt: 2025-02-05 14:43:08 -0500 (Wed, 05 Feb 2025) EndedAt: 2025-02-05 14:43:15 -0500 (Wed, 05 Feb 2025) EllapsedTime: 6.9 seconds RetCode: 0 Status: OK PackageFile: ABSSeq_1.60.0.tgz PackageFileSize: 1.316 MiB