Package: ABSSeq Version: 1.60.0 Command: /Library/Frameworks/R.framework/Resources/bin/R CMD build --keep-empty-dirs --no-resave-data ABSSeq StartedAt: 2025-02-03 18:23:55 -0500 (Mon, 03 Feb 2025) EndedAt: 2025-02-03 18:25:30 -0500 (Mon, 03 Feb 2025) EllapsedTime: 94.9 seconds RetCode: 0 Status: OK PackageFile: ABSSeq_1.60.0.tar.gz PackageFileSize: 1.073 MiB