Package: ABSSeq Version: 1.60.0 Command: /Library/Frameworks/R.framework/Resources/bin/R CMD INSTALL ABSSeq StartedAt: 2025-02-03 15:18:40 -0500 (Mon, 03 Feb 2025) EndedAt: 2025-02-03 15:18:45 -0500 (Mon, 03 Feb 2025) EllapsedTime: 5.2 seconds RetCode: 0 Status: OK