Package: ABSSeq Version: 1.60.0 Command: /Library/Frameworks/R.framework/Resources/bin/R CMD build --keep-empty-dirs --no-resave-data ABSSeq StartedAt: 2025-02-10 16:50:51 -0500 (Mon, 10 Feb 2025) EndedAt: 2025-02-10 16:53:39 -0500 (Mon, 10 Feb 2025) EllapsedTime: 167.8 seconds RetCode: 0 Status: OK PackageFile: ABSSeq_1.60.0.tar.gz PackageFileSize: 1.073 MiB