Package: ABSSeq Version: 1.60.0 Command: /home/biocbuild/bbs-3.20-bioc/R/bin/R CMD build --keep-empty-dirs --no-resave-data --md5 ABSSeq StartedAt: 2025-02-03 16:16:49 -0500 (Mon, 03 Feb 2025) EndedAt: 2025-02-03 16:18:04 -0500 (Mon, 03 Feb 2025) EllapsedTime: 75.2 seconds RetCode: 0 Status: OK PackageFile: ABSSeq_1.60.0.tar.gz PackageFileSize: 1.074 MiB