Package: ABSSeq Version: 1.60.0 Command: /home/biocbuild/bbs-3.20-bioc/R/bin/R CMD check --install=check:ABSSeq.install-out.txt --library=/home/biocbuild/bbs-3.20-bioc/R/site-library --timings ABSSeq_1.60.0.tar.gz StartedAt: 2025-02-10 19:48:50 -0500 (Mon, 10 Feb 2025) EndedAt: 2025-02-10 19:51:33 -0500 (Mon, 10 Feb 2025) EllapsedTime: 162.2 seconds RetCode: 0 Status: OK CheckDir: ABSSeq.Rcheck Warnings: 0