Package: ABSSeq Version: 1.60.0 Command: F:\biocbuild\bbs-3.20-bioc\R\bin\R.exe CMD check --no-multiarch --install=check:ABSSeq.install-out.txt --library=F:\biocbuild\bbs-3.20-bioc\R\library --no-vignettes --timings ABSSeq_1.60.0.tar.gz StartedAt: 2025-02-03 23:00:18 -0500 (Mon, 03 Feb 2025) EndedAt: 2025-02-03 23:03:06 -0500 (Mon, 03 Feb 2025) EllapsedTime: 168.2 seconds RetCode: 0 Status: OK CheckDir: ABSSeq.Rcheck Warnings: 0