Package: ACE Version: 1.24.0 Command: /home/biocbuild/bbs-3.20-bioc/R/bin/R CMD build --keep-empty-dirs --no-resave-data --md5 ACE StartedAt: 2025-02-03 16:16:49 -0500 (Mon, 03 Feb 2025) EndedAt: 2025-02-03 16:17:44 -0500 (Mon, 03 Feb 2025) EllapsedTime: 55.1 seconds RetCode: 0 Status: OK PackageFile: ACE_1.24.0.tar.gz PackageFileSize: 2.521 MiB