Package: ACE Version: 1.24.0 Command: /home/biocbuild/R/R/bin/R CMD check --install=check:ACE.install-out.txt --library=/home/biocbuild/R/R/site-library --no-vignettes --timings ACE_1.24.0.tar.gz StartedAt: 2025-02-04 04:11:10 -0000 (Tue, 04 Feb 2025) EndedAt: 2025-02-04 04:15:22 -0000 (Tue, 04 Feb 2025) EllapsedTime: 251.8 seconds RetCode: 0 Status: OK CheckDir: ACE.Rcheck Warnings: 0