Package: ADAM Version: 1.22.0 Command: chmod a+r ADAM -R && F:\biocbuild\bbs-3.20-bioc\R\bin\R.exe CMD build --keep-empty-dirs --no-resave-data ADAM StartedAt: 2025-02-03 17:24:34 -0500 (Mon, 03 Feb 2025) EndedAt: 2025-02-03 17:26:26 -0500 (Mon, 03 Feb 2025) EllapsedTime: 111.9 seconds RetCode: 0 Status: OK PackageFile: ADAM_1.22.0.tar.gz PackageFileSize: 321.3 KiB